Workbook

Sheet Cover
C3: MAXIMUM PRICE TEMPLATE (for connecting to a water supply, sewerage, or drainage system)
C5: MODELLER: | E5: Greg McLennan
C6: email | E6: greg_mclennan@ipart.nsw.gov.au
C10: WHAT IS THE PURPOSE OF MODEL?
C12: This workbook is a template that agencies can use to calculate the maximum price for connecting to a water supply, sewerage, or drainage system (referred to as maximum price from here). The use of this template is voluntary.
C14: Agencies can also use the template to calculate the maximum price for connecting a New Development to a Recycled Water System (where that Recycled Water System is a Least Cost Servicing Solution) or to calculate the Ordinary Developer Charge component of the maximum price for connecting a New Development to a Recycled Water System (where that Recycled Water System is not a Least Cost Servicing Solution).
C16: HOW DOES THE TEMPLATE WORK?
C18: ="The template is designed to calculate the asset related components of a maximum price (excluding headwork assets and scheme cost allocation). Some example data has been included for illustrative purposes in the '"&MID(CELL("filename",'Pre-1996 assets'!$A$1),FIND("]",CELL("filename",'Pre-1996 assets'!$A$1))+1,255)&"', '"&MID(CELL("filename",'Post-1996 commissioned assets'!$A$1),FIND("]",CELL("filename",'Post-1996 commissioned assets'!$A$1))+1,255)&"', '"&MID(CELL("filename",'Uncommissioned assets'!$A$1),FIND("]",CELL("filename",'Uncommissioned assets'!$A$1))+1,255)&"', and '"&MID(CELL("filename",'ET inputs'!$A$1),FIND("]",CELL("filename",'ET inputs'!$A$1))+1,255)&"' worksheets. Please delete all illustrative data to ensure the template produces the correct results." -> The template is designed to calculate the asset related components of a maximum price (excluding headwork assets and scheme cost allocation). Some example data has been included for illustrative purposes in the 'Pre-1996 assets', 'Post-1996 commissioned assets', 'Uncommissioned assets', and 'ET inputs' worksheets. Please delete all illustrative data to ensure the template produces the correct results.
C20: ="There are no macros in the model. To use the model, simply enter the required inputs on the '"&MID(CELL("filename",'General inputs'!$A$1),FIND("]",CELL("filename",'General inputs'!$A$1))+1,255)&"' worksheet then enter the required data into the appropriate (blue) cells in the other worksheets in dollars of the selected year. The model will then automatically calculate the maximum price. Please note that the formatting on the '"&MID(CELL("filename",'MP Calculations'!A2),FIND("]",CELL("filename",'MP Calculations'!A2))+1,255)&"' worksheet has been automated to reflect the correct date ranges." -> There are no macros in the model. To use the model, simply enter the required inputs on the 'General inputs' worksheet then enter the required data into the appropriate (blue) cells in the other worksheets in dollars of the selected year. The model will then automatically calculate the maximum price. Please note that the formatting on the 'MP Calculations' worksheet has been automated to reflect the correct date ranges.
C22: What's in the Template?
C24: Calculation of the asset component of the maximum price (excluding headworks and scheme cost allocation).
C26: The key worksheets requiring inputs to calculate the asset related components are:
C28: > | D28: =MID(CELL("filename",'General inputs'!$A$1),FIND("]",CELL("filename",'General inputs'!$A$1))+1,255) -> General inputs
C29: > | D29: =MID(CELL("filename",'Pre-1996 assets'!$A$1),FIND("]",CELL("filename",'Pre-1996 assets'!$A$1))+1,255) -> Pre-1996 assets
C30: > | D30: =MID(CELL("filename",'Post-1996 commissioned assets'!$A$1),FIND("]",CELL("filename",'Post-1996 commissioned assets'!$A$1))+1,255) -> Post-1996 commissioned assets
C31: > | D31: =MID(CELL("filename",'Uncommissioned assets'!$A$1),FIND("]",CELL("filename",'Uncommissioned assets'!$A$1))+1,255) -> Uncommissioned assets
C32: > | D32: =MID(CELL("filename",'ET inputs'!$A$1),FIND("]",CELL("filename",'ET inputs'!$A$1))+1,255) -> ET inputs
C34: Reduction amount
C36: A separate worksheet has been provided to calculate the reduction amount:
C38: > | D38: =MID(CELL("filename",'Reduction amount'!$A$1),FIND("]",CELL("filename",'Reduction amount'!$A$1))+1,255) -> Reduction amount
C40: ="On this worksheet the agency can generate the time series for Ri (revenue) and Ci (opex) over the required timeframe. These time series can be copied or linked through to the '"&MID(CELL("filename",'MP Calculations'!$A$1),FIND("]",CELL("filename",'MP Calculations'!$A$1))+1,255)&"' worksheet, where the reduction amount is calculated. (This template does not generate the Ri and Ci components of the reduction amount because of the differences in price structures and operating environments between the agencies.)" -> On this worksheet the agency can generate the time series for Ri (revenue) and Ci (opex) over the required timeframe. These time series can be copied or linked through to the 'MP Calculations' worksheet, where the reduction amount is calculated. (This template does not generate the Ri and Ci components of the reduction amount because of the differences in price structures and operating environments between the agencies.)
C42: ="The '"&MID(CELL("filename",'Reduction amount'!$A$1),FIND("]",CELL("filename",'Reduction amount'!$A$1))+1,255)&"' worksheet provides instructions on how to incorporate the results in the maximum price calculations." -> The 'Reduction amount' worksheet provides instructions on how to incorporate the results in the maximum price calculations.
C44: Headworks
C46: A separate worksheet has been provided to capture headworks assets:
C48: > | D48: =MID(CELL("filename",'Headwork assets'!$A$1),FIND("]",CELL("filename",'Headwork assets'!$A$1))+1,255) -> Headwork assets
C50: The purpose of this worksheet is to record, at a high level, the underlying data that are used to calculate the Headworks cost per ET.
C52: As headwork costs per ET apply to all DSP areas within a system, presenting the headwork calculations separately will provide additional transparency, and ensure consistency between DSP areas in relation to headworks.
C54: ="The '"&MID(CELL("filename",'Headwork assets'!$A$1),FIND("]",CELL("filename",'Headwork assets'!$A$1))+1,255)&"' worksheet provides instructions on how to incorporate the results in the maximum price calculations." -> The 'Headwork assets' worksheet provides instructions on how to incorporate the results in the maximum price calculations.
C56: Scheme cost allocation
C58: A separate worksheet has been provided to capture scheme cost allocation:
C60: > | D60: =MID(CELL("filename",'Scheme cost allocation'!$A$1),FIND("]",CELL("filename",'Scheme cost allocation'!$A$1))+1,255) -> Scheme cost allocation
C62: The purpose of this worksheet is to record, at a high level, the underlying data that are used to calculate the Scheme cost allocation per ET.
C64: As headwork costs per ET apply to all DSP areas within a system, presenting the headwork calculations separately will provide additional transparency, and ensure consistency between DSP areas in relation to headworks.
C66: ="The '"&MID(CELL("filename",'Headwork assets'!$A$1),FIND("]",CELL("filename",'Headwork assets'!$A$1))+1,255)&"' worksheet provides instructions on how to incorporate the results in the maximum price calculations." -> The 'Headwork assets' worksheet provides instructions on how to incorporate the results in the maximum price calculations.
C68: Maximum price calculations and summary of outputs
C70: The maximum price is calculated and the results are summarised in:
C72: > | D72: =MID(CELL("filename",'MP Calculations'!A8),FIND("]",CELL("filename",'MP Calculations'!A8))+1,255) -> MP Calculations
C73: > | D73: =MID(CELL("filename",'Summary of result'!A11),FIND("]",CELL("filename",'Summary of result'!A11))+1,255) -> Summary of result
C75: The separate components for the maximum price equation are presented in both the worksheets.
C77: Asset inclusions and exclusions
...

Sheet Journal of changes
C3: JOURNAL OF CHANGES
C5: Reason for change | D5: Description of change | E5: Place change made | F5: Template Version | G5: Date change made
C6: Align template with Determination | D6: Limit ET profile used in calculating reduction amount per ET to 30 forecast years only. Previously extended to 1995-96. | E6: Column H, MP Calculations worksheet | F6: V1.01 | G6: 43678
C7: Align template with Determination | D7: Removed the time limit for uncommissioned assets. Previous time limit was to year 30. | E7: Columns N & O, MP Calculations worksheet | F7: V1.01 | G7: 43678
C8: Expansion to account for the Maximum prices for connecting to a recycled water system Determination July 2019. | D8: Include an additional input "Scheme costs allocation per ET" to allow for cost offsets for non-least cost recycled water schemes to be incorporated. | E8: G22, MP Calculations worksheet Scheme cost allocation worksheet | F8: V1.01 | G8: 43678
C9: Incease clarity of Determination intent | D9: Improve examples of the asset input worksheets to clarify that asset apportionment should be considered on an asset-by-asset basis. | E9: Row 22 and 23 on the Pre-1996 assets, Post-1996 commissioned assets and Uncommissioned assets worksheets | F9: V1.02 | G9: 44805

Sheet Summary of result
C3: Summary of maximum price for a new development
D5: Where the New Development is connecting to a Recycled Water System, the variables may be modified by Schedule 1 or Schedule 2 of the Recycled Water Developer Charges Determination. | Q5: Developer charges and backlog sewerage charges for metropolitan water agencies 2018 | IPART (nsw.gov.au)
D8: ="The maximum price for the new development area '"&'General inputs'!H7&"' is:" -> The maximum price for the new development area 'Aerotropolis' is: | J8: =G19 -> 124748.88 | K8: ="per ET ($"&'General inputs'!$I$40&")." -> per ET ($2026-27).
D10: of which: | J10: =IF($J$8<=0,0,IF('General inputs'!$H$42='General inputs'!$L$37,'MP Calculations'!F22,IF('General inputs'!$H$42='General inputs'!$L$38,'MP Calculations'!F22*1000,'MP Calculations'!F22*1000000))) -> 0 | K10: is the headworks charge
D13: Maximum price formula:
D17: ="in $, $"&'General inputs'!$I$40&", where:" -> in $, $2026-27, where:
E19: MP | F19: = | G19: =IF('General inputs'!$H$42='General inputs'!$L$37,'MP Calculations'!C22,IF('General inputs'!$H$42='General inputs'!$L$38,'MP Calculations'!C22*1000,'MP Calculations'!C22*1000000)) -> 124748.88 | H19: = | I19: maximum price per equivalent tenement to be services by the connection.
E20: K1 | F20: = | G20: =IF('General inputs'!$H$42='General inputs'!$L$37,'MP Calculations'!H20,IF('General inputs'!$H$42='General inputs'!$L$38,'MP Calculations'!H20*1000,'MP Calculations'!H20*1000000)) -> 0 | H20: = | I20: the Capital Charge for the Pre-1996 Assets that will serve the relevant DSP Area, calculated in accordance with clause 2.3(a) of Schedule 5 of the Determination and set out in the DSP.
E21: K2 | F21: = | G21: =IF('General inputs'!$H$42='General inputs'!$L$37,SUM('MP Calculations'!I20:K20),IF('General inputs'!$H$42='General inputs'!$L$38,SUM('MP Calculations'!I20:K20)*1000,SUM('MP Calculations'!I20:K20)*1000000)) -> 2.2211561e+09 | H21: = | I21: the Capital Charge for the Post-1996 Assets that will serve the relevant DSP Area, calculated in accordance with clause 2.3(b) and 2.3(c) of Schedule 5 of the Determination and set out in the DSP.
E22: PV(L1) | F22: = | G22: ='MP Calculations'!H21 -> 21181.497 | H22: = | I22: the Present Value of the Agency’s estimate of the number of Equivalent Tenements in the relevant DSP for Pre-1996 Assets, calculated in accordance with clause 3.2(a) of Schedule 5 of the Determination and set out in the relevant DSP.
E23: PV(L2) | F23: = | G23: ='MP Calculations'!J21 -> 19332.063 | H23: = | I23: the Present Value of the Agency’s estimate of the number of Equivalent Tenements for Post-1996 Assets, calculated in accordance with clause 3.2(b) of Schedule 5 of the Determination and set out in the relevant DSP.
E24: PV(L3) | F24: = | G24: ='MP Calculations'!L21 -> 19332.063 | H24: = | I24: the Present Value of the Agency’s estimate of the number of Equivalent Tenements for the Reduction Amount, calculated in accordance with clause 3.2(c) of Schedule 5 of the Determination and set out in the relevant DSP.
E25: Ri | F25: = | G25: ='MP Calculations'!R29 -> 3.5627958e+08 | H25: = | I25: the Agency’s estimate of the future periodic revenues to be received from new customers in the relevant DSP Area in each financial year i, estimated in accordance with clause 4 of Schedule 5 of the Determination and set out in the relevant DSP.
E26: Ci | F26: = | G26: ='MP Calculations'!U29 -> 5.4677675e+08 | H26: = | I26: the Agency’s estimate of the future operating, maintenance and administration costs of servicing all new customers in the DSP Area in each financial year i (excluding, for the avoidance of doubt, any Capital Costs), estimated in accordance with clause 5 of Schedule 5 of the Determination and set out in the relevant DSP.
E27: n | F27: = | G27: =INDEX('MP Calculations'!$D$39:$D$129,MATCH('General inputs'!$H$38-1,'MP Calculations'!C39:C129)) -> 2055-56 | H27: = | I27: is the financial year which is 30 years from the financial year in which the relevant DSP was registered with IPART under clause 2(e) of Schedule 4 of the Determination.

Sheet MP Calculations
C3: CALCULATION OF MAXIMUM PRICE
C6: Index
J8: Row
A9: 1 | C9: ="Table "&A9&": Calculation of maximum price ("&'General inputs'!H42&", $"&'General inputs'!I40&")" -> Table 1: Calculation of maximum price ($, $2026-27) | J9: =ROW(C17) -> 17
A10: =A9+1 -> 2 | C10: ="Table "&A10&": Key variables used in maximum price calculation ("&'General inputs'!H42&", $"&'General inputs'!I40&")" -> Table 2: Key variables used in maximum price calculation ($, $2026-27) | J10: =ROW(C26) -> 26
A11: =A10+1 -> 3 | C11: ="Table "&A11&": Annual calculation over analysis horizon ("&'General inputs'!H42&", $"&'General inputs'!I40&")" -> Table 3: Annual calculation over analysis horizon ($, $2026-27) | J11: =ROW(C35) -> 35
B14: ="Note: an input is required in "&ADDRESS(ROW($G$22),COLUMN($G$22))&" to incorporate the Headwork costs per ET into the maximum price." -> Note: an input is required in $G$22 to incorporate the Headwork costs per ET into the maximum price.
B15: ="Note: an input is required in "&ADDRESS(ROW($F$22),COLUMN($F$22))&" to incorporate the Scheme cost allocation per ET into the maximum price." -> Note: an input is required in $F$22 to incorporate the Scheme cost allocation per ET into the maximum price.
C17: =C9 -> Table 1: Calculation of maximum price ($, $2026-27)
C19: Maximum price | F19: Headworks costs per ET | G19: Scheme cost allocation per ET | H19: Pre-1996 assets | J19: Post-1996 commissioned assets | K19: Post-1996 uncommissioned assets | L19: Reduction for expected revenue and operation costs
E20: Costs to be recovered via DSP | H20: =K29 -> 0 | J20: =M29 -> 0 | K20: =O29 -> 2.2211561e+09 | L20: =R29-U29 -> -1.9049717e+08
E21: ETs | H21: =F29 -> 21181.497 | J21: =G29 -> 19332.063 | K21: =G29 -> 19332.063 | L21: =H29 -> 19332.063
C22: =IF(SUM(F22:K22,-L22)<0,0,SUM(F22:K22,-L22)) -> 124748.88 | E22: Value per ET | F22: 0 | G22: 0 | H22: =H20/H21 -> 0 | J22: =J20/J21 -> 0 | K22: =K20/K21 -> 114894.93 | L22: =L20/L21 -> -9853.9491
C26: =C10 -> Table 2: Key variables used in maximum price calculation ($, $2026-27)
E28: Sum of new ETs (not discounted) | F28: Sum of PV of new ETs (discounted at pre-1996 asset discount rate) | G28: Sum of PV of new ETs (discounted at post-1996 asset discount rate) | H28: Sum of PV of new ETs (discounted at expected revenue and costs discount rate) | K28: Sum of PV of Pre-1996 commissioned assets (discounted at pre-1996 asset discount rate) | M28: Sum of PV of Post-1996 commissioned assets (discounted at post-1996 asset discount rate) | O28: Sum of PV of Post-1996 uncommissioned assets (discounted at post-1996 asset discount rate) | R28: Sum of PV of revenue for new customers (discounted at expected future revenue and costs discount rate) | U28: Sum of PV of costs for new ETs (discounted at expected future revenue and costs discount rate)
E29: =SUM(E39:E129) -> 28055.522 | F29: =SUM(F39:F129) -> 21181.497 | G29: =SUM(G39:G129) -> 19332.063 | H29: =SUM(H39:H129) -> 19332.063 | K29: =K39 -> 0 | M29: =SUM(M39:M129) -> 0 | O29: =SUM(O39:O129) -> 2.2211561e+09 | R29: =SUM(R39:R129) -> 3.5627958e+08 | U29: =SUM(U39:U129) -> 5.4677675e+08
B33: ="Note: inputs are required in "&'Reduction amount'!D17&" and "&'Reduction amount'!D18&" to calculate the 'Reduction amount'." -> Note: inputs are required in $Q$70:$Q$99 and $T$70:$T$99 to calculate the 'Reduction amount'.
C35: =C11 -> Table 3: Annual calculation over analysis horizon ($, $2026-27)
Q36: =IF(COUNT(Q39:Q129)<>'General inputs'!H38,"Data required in input range "&'Reduction amount'!D17,"OK") -> Data required in input range $Q$70:$Q$99 | T36: =IF(COUNT(T39:T129)<>'General inputs'!H38,"Data required in input range "&'Reduction amount'!D18,"OK") -> Data required in input range $T$70:$T$99
E37: ET values | J37: Asset values | Q37: Revenue values | T37: Cost values
D38: Year | E38: New ETs per year for this DSP area | F38: Present value of new ETs per year (discounted at pre-1996 asset discount rate) | G38: Present value of new ETs per year (discounted at post-1996 asset discount rate) | H38: Present value of new ETs per year (discounted at expected revenue and costs discount rate) | J38: Value of pre-1996 assets to be collected through this DSP (undiscounted) | K38: Present value of pre-1996 assets (discounted at pre-1996 asset discount rate) | L38: Value of post-1996 commissioned assets to be collected through this DSP (undiscounted) | M38: Present value of post-1996 commissioned assets (discounted at post-1996 asset discount rate) | N38: Value of post-1996 uncommissioned assets to be collected through this DSP (undiscounted) | O38: Present value of post-1996 uncommissioned assets (discounted at post-1996 asset discount rate) | Q38: Revenues expected to be recovered from new customers (undiscounted) | R38: Present value of revenues (discounted at expected future revenue and costs discount rate) | T38: Operating costs expected to be incurred in providing service to new customers (undiscounted) | U38: Present value of operating costs (discounted at expected future revenue and costs discount rate)
C39: =IF(D39='General inputs'!$I$16,0,IF(D39<'General inputs'!$I$16,C40-1,C38+1)) -> -31 | D39: =RIGHT(YEAR('General inputs'!$H$24),4)&"-"&RIGHT(YEAR('General inputs'!H24),2)+1 -> 1995-96 | E39: =IF(LEFT(D39,4)*1>LEFT('General inputs'!$I$16,4)+'General inputs'!$H$38-1,"",'ET inputs'!D12) -> 0 | F39: =IF(LEFT(D39,4)*1>LEFT('General inputs'!$I$16,4)+'General inputs'!$H$38-1,"",E39/(1+'General inputs'!$H$30)^C39) -> 0 | G39: =IF(LEFT(D39,4)*1>LEFT('General inputs'!$I$16,4)+'General inputs'!$H$38-1,"",E39/(1+'General inputs'!$H$32)^C39) -> 0 | H39: =IF(LEFT(D39,4)*1<LEFT('General inputs'!$I$16,4)*1,"",IF(LEFT(D39,4)*1>LEFT('General inputs'!$I$16,4)+'General inputs'!$H$38-1,"",E39/(1+'General inputs'!$H$34)^C39)) | J39: ='Pre-1996 assets'!P219 -> 0 | K39: =J39/(1+'General inputs'!$H$30)^C39 -> 0 | L39: =IF(LEFT(D39,4)*1>LEFT('General inputs'!$I$18,4)*1,"",SUMIF('Post-1996 commissioned assets'!$F$22:$F$218,$D39,'Post-1996 commissioned assets'!$P$22:$P$218)) -> 0 | M39: =IF(L39="","",L39/(1+'General inputs'!$H$32)^C39) -> 0 | N39: =IF(LEFT(D39,4)*1<LEFT('General inputs'!$I$18,4)*1+1,"",SUMIF('Uncommissioned assets'!$F$22:$F$1501,$D39,'Uncommissioned assets'!$P$22:$P$1501)) | O39: =IF(N39="","",N39/(1+'General inputs'!$H$32)^C39) | R39: =IF(OR(LEFT(D39,4)*1<LEFT('General inputs'!$I$16,4)*1,LEFT(D39,4)*1>LEFT('General inputs'!$I$16,4)+'General inputs'!$H$38-1),"",Q39/(1+'General inputs'!$H$34)^C39) | U39: =IF(OR(LEFT(D39,4)*1<LEFT('General inputs'!$I$16,4)*1,LEFT(D39,4)*1>LEFT('General inputs'!$I$16,4)+'General inputs'!$H$38-1),"",T39/(1+'General inputs'!$H$34)^C39)
C40: =IF(D40='General inputs'!$I$16,0,IF(D40<'General inputs'!$I$16,C41-1,C39+1)) -> -30 | D40: =LEFT(D39,4)+1&"-"&RIGHT(D39,2)+1 -> 1996-97 | E40: =IF(LEFT(D40,4)*1>LEFT('General inputs'!$I$16,4)+'General inputs'!$H$38-1,"",'ET inputs'!D13) -> 0 | F40: =IF(LEFT(D40,4)*1>LEFT('General inputs'!$I$16,4)+'General inputs'!$H$38-1,"",E40/(1+'General inputs'!$H$30)^C40) -> 0 | G40: =IF(LEFT(D40,4)*1>LEFT('General inputs'!$I$16,4)+'General inputs'!$H$38-1,"",E40/(1+'General inputs'!$H$32)^C40) -> 0 | H40: =IF(LEFT(D40,4)*1<LEFT('General inputs'!$I$16,4)*1,"",IF(LEFT(D40,4)*1>LEFT('General inputs'!$I$16,4)+'General inputs'!$H$38-1,"",E40/(1+'General inputs'!$H$34)^C40)) | L40: =IF(LEFT(D40,4)*1>LEFT('General inputs'!$I$18,4)*1,"",SUMIF('Post-1996 commissioned assets'!$F$22:$F$218,$D40,'Post-1996 commissioned assets'!$P$22:$P$218)) -> 0 | M40: =IF(L40="","",L40/(1+'General inputs'!$H$32)^C40) -> 0 | N40: =IF(LEFT(D40,4)*1<LEFT('General inputs'!$I$18,4)*1+1,"",SUMIF('Uncommissioned assets'!$F$22:$F$1501,$D40,'Uncommissioned assets'!$P$22:$P$1501)) | O40: =IF(N40="","",N40/(1+'General inputs'!$H$32)^C40) | R40: =IF(OR(LEFT(D40,4)*1<LEFT('General inputs'!$I$16,4)*1,LEFT(D40,4)*1>LEFT('General inputs'!$I$16,4)+'General inputs'!$H$38-1),"",Q40/(1+'General inputs'!$H$34)^C40) | U40: =IF(OR(LEFT(D40,4)*1<LEFT('General inputs'!$I$16,4)*1,LEFT(D40,4)*1>LEFT('General inputs'!$I$16,4)+'General inputs'!$H$38-1),"",T40/(1+'General inputs'!$H$34)^C40)
C41: =IF(D41='General inputs'!$I$16,0,IF(D41<'General inputs'!$I$16,C42-1,C40+1)) -> -29 | D41: =LEFT(D40,4)+1&"-"&RIGHT(D40,2)+1 -> 1997-98 | E41: =IF(LEFT(D41,4)*1>LEFT('General inputs'!$I$16,4)+'General inputs'!$H$38-1,"",'ET inputs'!D14) -> 0 | F41: =IF(LEFT(D41,4)*1>LEFT('General inputs'!$I$16,4)+'General inputs'!$H$38-1,"",E41/(1+'General inputs'!$H$30)^C41) -> 0 | G41: =IF(LEFT(D41,4)*1>LEFT('General inputs'!$I$16,4)+'General inputs'!$H$38-1,"",E41/(1+'General inputs'!$H$32)^C41) -> 0 | H41: =IF(LEFT(D41,4)*1<LEFT('General inputs'!$I$16,4)*1,"",IF(LEFT(D41,4)*1>LEFT('General inputs'!$I$16,4)+'General inputs'!$H$38-1,"",E41/(1+'General inputs'!$H$34)^C41)) | L41: =IF(LEFT(D41,4)*1>LEFT('General inputs'!$I$18,4)*1,"",SUMIF('Post-1996 commissioned assets'!$F$22:$F$218,$D41,'Post-1996 commissioned assets'!$P$22:$P$218)) -> 0 | M41: =IF(L41="","",L41/(1+'General inputs'!$H$32)^C41) -> 0 | N41: =IF(LEFT(D41,4)*1<LEFT('General inputs'!$I$18,4)*1+1,"",SUMIF('Uncommissioned assets'!$F$22:$F$1501,$D41,'Uncommissioned assets'!$P$22:$P$1501)) | O41: =IF(N41="","",N41/(1+'General inputs'!$H$32)^C41) | R41: =IF(OR(LEFT(D41,4)*1<LEFT('General inputs'!$I$16,4)*1,LEFT(D41,4)*1>LEFT('General inputs'!$I$16,4)+'General inputs'!$H$38-1),"",Q41/(1+'General inputs'!$H$34)^C41) | U41: =IF(OR(LEFT(D41,4)*1<LEFT('General inputs'!$I$16,4)*1,LEFT(D41,4)*1>LEFT('General inputs'!$I$16,4)+'General inputs'!$H$38-1),"",T41/(1+'General inputs'!$H$34)^C41)
C42: =IF(D42='General inputs'!$I$16,0,IF(D42<'General inputs'!$I$16,C43-1,C41+1)) -> -28 | D42: =LEFT(D41,4)+1&"-"&RIGHT(D41,2)+1 -> 1998-99 | E42: =IF(LEFT(D42,4)*1>LEFT('General inputs'!$I$16,4)+'General inputs'!$H$38-1,"",'ET inputs'!D15) -> 0 | F42: =IF(LEFT(D42,4)*1>LEFT('General inputs'!$I$16,4)+'General inputs'!$H$38-1,"",E42/(1+'General inputs'!$H$30)^C42) -> 0 | G42: =IF(LEFT(D42,4)*1>LEFT('General inputs'!$I$16,4)+'General inputs'!$H$38-1,"",E42/(1+'General inputs'!$H$32)^C42) -> 0 | H42: =IF(LEFT(D42,4)*1<LEFT('General inputs'!$I$16,4)*1,"",IF(LEFT(D42,4)*1>LEFT('General inputs'!$I$16,4)+'General inputs'!$H$38-1,"",E42/(1+'General inputs'!$H$34)^C42)) | L42: =IF(LEFT(D42,4)*1>LEFT('General inputs'!$I$18,4)*1,"",SUMIF('Post-1996 commissioned assets'!$F$22:$F$218,$D42,'Post-1996 commissioned assets'!$P$22:$P$218)) -> 0 | M42: =IF(L42="","",L42/(1+'General inputs'!$H$32)^C42) -> 0 | N42: =IF(LEFT(D42,4)*1<LEFT('General inputs'!$I$18,4)*1+1,"",SUMIF('Uncommissioned assets'!$F$22:$F$1501,$D42,'Uncommissioned assets'!$P$22:$P$1501)) | O42: =IF(N42="","",N42/(1+'General inputs'!$H$32)^C42) | R42: =IF(OR(LEFT(D42,4)*1<LEFT('General inputs'!$I$16,4)*1,LEFT(D42,4)*1>LEFT('General inputs'!$I$16,4)+'General inputs'!$H$38-1),"",Q42/(1+'General inputs'!$H$34)^C42) | U42: =IF(OR(LEFT(D42,4)*1<LEFT('General inputs'!$I$16,4)*1,LEFT(D42,4)*1>LEFT('General inputs'!$I$16,4)+'General inputs'!$H$38-1),"",T42/(1+'General inputs'!$H$34)^C42)
C43: =IF(D43='General inputs'!$I$16,0,IF(D43<'General inputs'!$I$16,C44-1,C42+1)) -> -27 | D43: =LEFT(D42,4)+1&"-00" -> 1999-00 | E43: =IF(LEFT(D43,4)*1>LEFT('General inputs'!$I$16,4)+'General inputs'!$H$38-1,"",'ET inputs'!D16) -> 0 | F43: =IF(LEFT(D43,4)*1>LEFT('General inputs'!$I$16,4)+'General inputs'!$H$38-1,"",E43/(1+'General inputs'!$H$30)^C43) -> 0 | G43: =IF(LEFT(D43,4)*1>LEFT('General inputs'!$I$16,4)+'General inputs'!$H$38-1,"",E43/(1+'General inputs'!$H$32)^C43) -> 0 | H43: =IF(LEFT(D43,4)*1<LEFT('General inputs'!$I$16,4)*1,"",IF(LEFT(D43,4)*1>LEFT('General inputs'!$I$16,4)+'General inputs'!$H$38-1,"",E43/(1+'General inputs'!$H$34)^C43)) | L43: =IF(LEFT(D43,4)*1>LEFT('General inputs'!$I$18,4)*1,"",SUMIF('Post-1996 commissioned assets'!$F$22:$F$218,$D43,'Post-1996 commissioned assets'!$P$22:$P$218)) -> 0 | M43: =IF(L43="","",L43/(1+'General inputs'!$H$32)^C43) -> 0 | N43: =IF(LEFT(D43,4)*1<LEFT('General inputs'!$I$18,4)*1+1,"",SUMIF('Uncommissioned assets'!$F$22:$F$1501,$D43,'Uncommissioned assets'!$P$22:$P$1501)) | O43: =IF(N43="","",N43/(1+'General inputs'!$H$32)^C43) | R43: =IF(OR(LEFT(D43,4)*1<LEFT('General inputs'!$I$16,4)*1,LEFT(D43,4)*1>LEFT('General inputs'!$I$16,4)+'General inputs'!$H$38-1),"",Q43/(1+'General inputs'!$H$34)^C43) | U43: =IF(OR(LEFT(D43,4)*1<LEFT('General inputs'!$I$16,4)*1,LEFT(D43,4)*1>LEFT('General inputs'!$I$16,4)+'General inputs'!$H$38-1),"",T43/(1+'General inputs'!$H$34)^C43)
C44: =IF(D44='General inputs'!$I$16,0,IF(D44<'General inputs'!$I$16,C45-1,C43+1)) -> -26 | D44: =LEFT(D43,4)+1&"-0"&RIGHT(D43,2)+1 -> 2000-01 | E44: =IF(LEFT(D44,4)*1>LEFT('General inputs'!$I$16,4)+'General inputs'!$H$38-1,"",'ET inputs'!D17) -> 0 | F44: =IF(LEFT(D44,4)*1>LEFT('General inputs'!$I$16,4)+'General inputs'!$H$38-1,"",E44/(1+'General inputs'!$H$30)^C44) -> 0 | G44: =IF(LEFT(D44,4)*1>LEFT('General inputs'!$I$16,4)+'General inputs'!$H$38-1,"",E44/(1+'General inputs'!$H$32)^C44) -> 0 | H44: =IF(LEFT(D44,4)*1<LEFT('General inputs'!$I$16,4)*1,"",IF(LEFT(D44,4)*1>LEFT('General inputs'!$I$16,4)+'General inputs'!$H$38-1,"",E44/(1+'General inputs'!$H$34)^C44)) | L44: =IF(LEFT(D44,4)*1>LEFT('General inputs'!$I$18,4)*1,"",SUMIF('Post-1996 commissioned assets'!$F$22:$F$218,$D44,'Post-1996 commissioned assets'!$P$22:$P$218)) -> 0 | M44: =IF(L44="","",L44/(1+'General inputs'!$H$32)^C44) -> 0 | N44: =IF(LEFT(D44,4)*1<LEFT('General inputs'!$I$18,4)*1+1,"",SUMIF('Uncommissioned assets'!$F$22:$F$1501,$D44,'Uncommissioned assets'!$P$22:$P$1501)) | O44: =IF(N44="","",N44/(1+'General inputs'!$H$32)^C44) | R44: =IF(OR(LEFT(D44,4)*1<LEFT('General inputs'!$I$16,4)*1,LEFT(D44,4)*1>LEFT('General inputs'!$I$16,4)+'General inputs'!$H$38-1),"",Q44/(1+'General inputs'!$H$34)^C44) | U44: =IF(OR(LEFT(D44,4)*1<LEFT('General inputs'!$I$16,4)*1,LEFT(D44,4)*1>LEFT('General inputs'!$I$16,4)+'General inputs'!$H$38-1),"",T44/(1+'General inputs'!$H$34)^C44)
C45: =IF(D45='General inputs'!$I$16,0,IF(D45<'General inputs'!$I$16,C46-1,C44+1)) -> -25 | D45: =LEFT(D44,4)+1&"-0"&RIGHT(D44,2)+1 -> 2001-02 | E45: =IF(LEFT(D45,4)*1>LEFT('General inputs'!$I$16,4)+'General inputs'!$H$38-1,"",'ET inputs'!D18) -> 0 | F45: =IF(LEFT(D45,4)*1>LEFT('General inputs'!$I$16,4)+'General inputs'!$H$38-1,"",E45/(1+'General inputs'!$H$30)^C45) -> 0 | G45: =IF(LEFT(D45,4)*1>LEFT('General inputs'!$I$16,4)+'General inputs'!$H$38-1,"",E45/(1+'General inputs'!$H$32)^C45) -> 0 | H45: =IF(LEFT(D45,4)*1<LEFT('General inputs'!$I$16,4)*1,"",IF(LEFT(D45,4)*1>LEFT('General inputs'!$I$16,4)+'General inputs'!$H$38-1,"",E45/(1+'General inputs'!$H$34)^C45)) | L45: =IF(LEFT(D45,4)*1>LEFT('General inputs'!$I$18,4)*1,"",SUMIF('Post-1996 commissioned assets'!$F$22:$F$218,$D45,'Post-1996 commissioned assets'!$P$22:$P$218)) -> 0 | M45: =IF(L45="","",L45/(1+'General inputs'!$H$32)^C45) -> 0 | N45: =IF(LEFT(D45,4)*1<LEFT('General inputs'!$I$18,4)*1+1,"",SUMIF('Uncommissioned assets'!$F$22:$F$1501,$D45,'Uncommissioned assets'!$P$22:$P$1501)) | O45: =IF(N45="","",N45/(1+'General inputs'!$H$32)^C45) | R45: =IF(OR(LEFT(D45,4)*1<LEFT('General inputs'!$I$16,4)*1,LEFT(D45,4)*1>LEFT('General inputs'!$I$16,4)+'General inputs'!$H$38-1),"",Q45/(1+'General inputs'!$H$34)^C45) | U45: =IF(OR(LEFT(D45,4)*1<LEFT('General inputs'!$I$16,4)*1,LEFT(D45,4)*1>LEFT('General inputs'!$I$16,4)+'General inputs'!$H$38-1),"",T45/(1+'General inputs'!$H$34)^C45)
C46: =IF(D46='General inputs'!$I$16,0,IF(D46<'General inputs'!$I$16,C47-1,C45+1)) -> -24 | D46: =LEFT(D45,4)+1&"-0"&RIGHT(D45,2)+1 -> 2002-03 | E46: =IF(LEFT(D46,4)*1>LEFT('General inputs'!$I$16,4)+'General inputs'!$H$38-1,"",'ET inputs'!D19) -> 0 | F46: =IF(LEFT(D46,4)*1>LEFT('General inputs'!$I$16,4)+'General inputs'!$H$38-1,"",E46/(1+'General inputs'!$H$30)^C46) -> 0 | G46: =IF(LEFT(D46,4)*1>LEFT('General inputs'!$I$16,4)+'General inputs'!$H$38-1,"",E46/(1+'General inputs'!$H$32)^C46) -> 0 | H46: =IF(LEFT(D46,4)*1<LEFT('General inputs'!$I$16,4)*1,"",IF(LEFT(D46,4)*1>LEFT('General inputs'!$I$16,4)+'General inputs'!$H$38-1,"",E46/(1+'General inputs'!$H$34)^C46)) | L46: =IF(LEFT(D46,4)*1>LEFT('General inputs'!$I$18,4)*1,"",SUMIF('Post-1996 commissioned assets'!$F$22:$F$218,$D46,'Post-1996 commissioned assets'!$P$22:$P$218)) -> 0 | M46: =IF(L46="","",L46/(1+'General inputs'!$H$32)^C46) -> 0 | N46: =IF(LEFT(D46,4)*1<LEFT('General inputs'!$I$18,4)*1+1,"",SUMIF('Uncommissioned assets'!$F$22:$F$1501,$D46,'Uncommissioned assets'!$P$22:$P$1501)) | O46: =IF(N46="","",N46/(1+'General inputs'!$H$32)^C46) | R46: =IF(OR(LEFT(D46,4)*1<LEFT('General inputs'!$I$16,4)*1,LEFT(D46,4)*1>LEFT('General inputs'!$I$16,4)+'General inputs'!$H$38-1),"",Q46/(1+'General inputs'!$H$34)^C46) | U46: =IF(OR(LEFT(D46,4)*1<LEFT('General inputs'!$I$16,4)*1,LEFT(D46,4)*1>LEFT('General inputs'!$I$16,4)+'General inputs'!$H$38-1),"",T46/(1+'General inputs'!$H$34)^C46)
C47: =IF(D47='General inputs'!$I$16,0,IF(D47<'General inputs'!$I$16,C48-1,C46+1)) -> -23 | D47: =LEFT(D46,4)+1&"-0"&RIGHT(D46,2)+1 -> 2003-04 | E47: =IF(LEFT(D47,4)*1>LEFT('General inputs'!$I$16,4)+'General inputs'!$H$38-1,"",'ET inputs'!D20) -> 0 | F47: =IF(LEFT(D47,4)*1>LEFT('General inputs'!$I$16,4)+'General inputs'!$H$38-1,"",E47/(1+'General inputs'!$H$30)^C47) -> 0 | G47: =IF(LEFT(D47,4)*1>LEFT('General inputs'!$I$16,4)+'General inputs'!$H$38-1,"",E47/(1+'General inputs'!$H$32)^C47) -> 0 | H47: =IF(LEFT(D47,4)*1<LEFT('General inputs'!$I$16,4)*1,"",IF(LEFT(D47,4)*1>LEFT('General inputs'!$I$16,4)+'General inputs'!$H$38-1,"",E47/(1+'General inputs'!$H$34)^C47)) | L47: =IF(LEFT(D47,4)*1>LEFT('General inputs'!$I$18,4)*1,"",SUMIF('Post-1996 commissioned assets'!$F$22:$F$218,$D47,'Post-1996 commissioned assets'!$P$22:$P$218)) -> 0 | M47: =IF(L47="","",L47/(1+'General inputs'!$H$32)^C47) -> 0 | N47: =IF(LEFT(D47,4)*1<LEFT('General inputs'!$I$18,4)*1+1,"",SUMIF('Uncommissioned assets'!$F$22:$F$1501,$D47,'Uncommissioned assets'!$P$22:$P$1501)) | O47: =IF(N47="","",N47/(1+'General inputs'!$H$32)^C47) | R47: =IF(OR(LEFT(D47,4)*1<LEFT('General inputs'!$I$16,4)*1,LEFT(D47,4)*1>LEFT('General inputs'!$I$16,4)+'General inputs'!$H$38-1),"",Q47/(1+'General inputs'!$H$34)^C47) | U47: =IF(OR(LEFT(D47,4)*1<LEFT('General inputs'!$I$16,4)*1,LEFT(D47,4)*1>LEFT('General inputs'!$I$16,4)+'General inputs'!$H$38-1),"",T47/(1+'General inputs'!$H$34)^C47)
C48: =IF(D48='General inputs'!$I$16,0,IF(D48<'General inputs'!$I$16,C49-1,C47+1)) -> -22 | D48: =LEFT(D47,4)+1&"-0"&RIGHT(D47,2)+1 -> 2004-05 | E48: =IF(LEFT(D48,4)*1>LEFT('General inputs'!$I$16,4)+'General inputs'!$H$38-1,"",'ET inputs'!D21) -> 0 | F48: =IF(LEFT(D48,4)*1>LEFT('General inputs'!$I$16,4)+'General inputs'!$H$38-1,"",E48/(1+'General inputs'!$H$30)^C48) -> 0 | G48: =IF(LEFT(D48,4)*1>LEFT('General inputs'!$I$16,4)+'General inputs'!$H$38-1,"",E48/(1+'General inputs'!$H$32)^C48) -> 0 | H48: =IF(LEFT(D48,4)*1<LEFT('General inputs'!$I$16,4)*1,"",IF(LEFT(D48,4)*1>LEFT('General inputs'!$I$16,4)+'General inputs'!$H$38-1,"",E48/(1+'General inputs'!$H$34)^C48)) | L48: =IF(LEFT(D48,4)*1>LEFT('General inputs'!$I$18,4)*1,"",SUMIF('Post-1996 commissioned assets'!$F$22:$F$218,$D48,'Post-1996 commissioned assets'!$P$22:$P$218)) -> 0 | M48: =IF(L48="","",L48/(1+'General inputs'!$H$32)^C48) -> 0 | N48: =IF(LEFT(D48,4)*1<LEFT('General inputs'!$I$18,4)*1+1,"",SUMIF('Uncommissioned assets'!$F$22:$F$1501,$D48,'Uncommissioned assets'!$P$22:$P$1501)) | O48: =IF(N48="","",N48/(1+'General inputs'!$H$32)^C48) | R48: =IF(OR(LEFT(D48,4)*1<LEFT('General inputs'!$I$16,4)*1,LEFT(D48,4)*1>LEFT('General inputs'!$I$16,4)+'General inputs'!$H$38-1),"",Q48/(1+'General inputs'!$H$34)^C48) | U48: =IF(OR(LEFT(D48,4)*1<LEFT('General inputs'!$I$16,4)*1,LEFT(D48,4)*1>LEFT('General inputs'!$I$16,4)+'General inputs'!$H$38-1),"",T48/(1+'General inputs'!$H$34)^C48)
C49: =IF(D49='General inputs'!$I$16,0,IF(D49<'General inputs'!$I$16,C50-1,C48+1)) -> -21 | D49: =LEFT(D48,4)+1&"-0"&RIGHT(D48,2)+1 -> 2005-06 | E49: =IF(LEFT(D49,4)*1>LEFT('General inputs'!$I$16,4)+'General inputs'!$H$38-1,"",'ET inputs'!D22) -> 0 | F49: =IF(LEFT(D49,4)*1>LEFT('General inputs'!$I$16,4)+'General inputs'!$H$38-1,"",E49/(1+'General inputs'!$H$30)^C49) -> 0 | G49: =IF(LEFT(D49,4)*1>LEFT('General inputs'!$I$16,4)+'General inputs'!$H$38-1,"",E49/(1+'General inputs'!$H$32)^C49) -> 0 | H49: =IF(LEFT(D49,4)*1<LEFT('General inputs'!$I$16,4)*1,"",IF(LEFT(D49,4)*1>LEFT('General inputs'!$I$16,4)+'General inputs'!$H$38-1,"",E49/(1+'General inputs'!$H$34)^C49)) | L49: =IF(LEFT(D49,4)*1>LEFT('General inputs'!$I$18,4)*1,"",SUMIF('Post-1996 commissioned assets'!$F$22:$F$218,$D49,'Post-1996 commissioned assets'!$P$22:$P$218)) -> 0 | M49: =IF(L49="","",L49/(1+'General inputs'!$H$32)^C49) -> 0 | N49: =IF(LEFT(D49,4)*1<LEFT('General inputs'!$I$18,4)*1+1,"",SUMIF('Uncommissioned assets'!$F$22:$F$1501,$D49,'Uncommissioned assets'!$P$22:$P$1501)) | O49: =IF(N49="","",N49/(1+'General inputs'!$H$32)^C49) | R49: =IF(OR(LEFT(D49,4)*1<LEFT('General inputs'!$I$16,4)*1,LEFT(D49,4)*1>LEFT('General inputs'!$I$16,4)+'General inputs'!$H$38-1),"",Q49/(1+'General inputs'!$H$34)^C49) | U49: =IF(OR(LEFT(D49,4)*1<LEFT('General inputs'!$I$16,4)*1,LEFT(D49,4)*1>LEFT('General inputs'!$I$16,4)+'General inputs'!$H$38-1),"",T49/(1+'General inputs'!$H$34)^C49)
C50: =IF(D50='General inputs'!$I$16,0,IF(D50<'General inputs'!$I$16,C51-1,C49+1)) -> -20 | D50: =LEFT(D49,4)+1&"-0"&RIGHT(D49,2)+1 -> 2006-07 | E50: =IF(LEFT(D50,4)*1>LEFT('General inputs'!$I$16,4)+'General inputs'!$H$38-1,"",'ET inputs'!D23) -> 0 | F50: =IF(LEFT(D50,4)*1>LEFT('General inputs'!$I$16,4)+'General inputs'!$H$38-1,"",E50/(1+'General inputs'!$H$30)^C50) -> 0 | G50: =IF(LEFT(D50,4)*1>LEFT('General inputs'!$I$16,4)+'General inputs'!$H$38-1,"",E50/(1+'General inputs'!$H$32)^C50) -> 0 | H50: =IF(LEFT(D50,4)*1<LEFT('General inputs'!$I$16,4)*1,"",IF(LEFT(D50,4)*1>LEFT('General inputs'!$I$16,4)+'General inputs'!$H$38-1,"",E50/(1+'General inputs'!$H$34)^C50)) | L50: =IF(LEFT(D50,4)*1>LEFT('General inputs'!$I$18,4)*1,"",SUMIF('Post-1996 commissioned assets'!$F$22:$F$218,$D50,'Post-1996 commissioned assets'!$P$22:$P$218)) -> 0 | M50: =IF(L50="","",L50/(1+'General inputs'!$H$32)^C50) -> 0 | N50: =IF(LEFT(D50,4)*1<LEFT('General inputs'!$I$18,4)*1+1,"",SUMIF('Uncommissioned assets'!$F$22:$F$1501,$D50,'Uncommissioned assets'!$P$22:$P$1501)) | O50: =IF(N50="","",N50/(1+'General inputs'!$H$32)^C50) | R50: =IF(OR(LEFT(D50,4)*1<LEFT('General inputs'!$I$16,4)*1,LEFT(D50,4)*1>LEFT('General inputs'!$I$16,4)+'General inputs'!$H$38-1),"",Q50/(1+'General inputs'!$H$34)^C50) | U50: =IF(OR(LEFT(D50,4)*1<LEFT('General inputs'!$I$16,4)*1,LEFT(D50,4)*1>LEFT('General inputs'!$I$16,4)+'General inputs'!$H$38-1),"",T50/(1+'General inputs'!$H$34)^C50)
C51: =IF(D51='General inputs'!$I$16,0,IF(D51<'General inputs'!$I$16,C52-1,C50+1)) -> -19 | D51: =LEFT(D50,4)+1&"-0"&RIGHT(D50,2)+1 -> 2007-08 | E51: =IF(LEFT(D51,4)*1>LEFT('General inputs'!$I$16,4)+'General inputs'!$H$38-1,"",'ET inputs'!D24) -> 0 | F51: =IF(LEFT(D51,4)*1>LEFT('General inputs'!$I$16,4)+'General inputs'!$H$38-1,"",E51/(1+'General inputs'!$H$30)^C51) -> 0 | G51: =IF(LEFT(D51,4)*1>LEFT('General inputs'!$I$16,4)+'General inputs'!$H$38-1,"",E51/(1+'General inputs'!$H$32)^C51) -> 0 | H51: =IF(LEFT(D51,4)*1<LEFT('General inputs'!$I$16,4)*1,"",IF(LEFT(D51,4)*1>LEFT('General inputs'!$I$16,4)+'General inputs'!$H$38-1,"",E51/(1+'General inputs'!$H$34)^C51)) | L51: =IF(LEFT(D51,4)*1>LEFT('General inputs'!$I$18,4)*1,"",SUMIF('Post-1996 commissioned assets'!$F$22:$F$218,$D51,'Post-1996 commissioned assets'!$P$22:$P$218)) -> 0 | M51: =IF(L51="","",L51/(1+'General inputs'!$H$32)^C51) -> 0 | N51: =IF(LEFT(D51,4)*1<LEFT('General inputs'!$I$18,4)*1+1,"",SUMIF('Uncommissioned assets'!$F$22:$F$1501,$D51,'Uncommissioned assets'!$P$22:$P$1501)) | O51: =IF(N51="","",N51/(1+'General inputs'!$H$32)^C51) | R51: =IF(OR(LEFT(D51,4)*1<LEFT('General inputs'!$I$16,4)*1,LEFT(D51,4)*1>LEFT('General inputs'!$I$16,4)+'General inputs'!$H$38-1),"",Q51/(1+'General inputs'!$H$34)^C51) | U51: =IF(OR(LEFT(D51,4)*1<LEFT('General inputs'!$I$16,4)*1,LEFT(D51,4)*1>LEFT('General inputs'!$I$16,4)+'General inputs'!$H$38-1),"",T51/(1+'General inputs'!$H$34)^C51)
C52: =IF(D52='General inputs'!$I$16,0,IF(D52<'General inputs'!$I$16,C53-1,C51+1)) -> -18 | D52: =LEFT(D51,4)+1&"-0"&RIGHT(D51,2)+1 -> 2008-09 | E52: =IF(LEFT(D52,4)*1>LEFT('General inputs'!$I$16,4)+'General inputs'!$H$38-1,"",'ET inputs'!D25) -> 0 | F52: =IF(LEFT(D52,4)*1>LEFT('General inputs'!$I$16,4)+'General inputs'!$H$38-1,"",E52/(1+'General inputs'!$H$30)^C52) -> 0 | G52: =IF(LEFT(D52,4)*1>LEFT('General inputs'!$I$16,4)+'General inputs'!$H$38-1,"",E52/(1+'General inputs'!$H$32)^C52) -> 0 | H52: =IF(LEFT(D52,4)*1<LEFT('General inputs'!$I$16,4)*1,"",IF(LEFT(D52,4)*1>LEFT('General inputs'!$I$16,4)+'General inputs'!$H$38-1,"",E52/(1+'General inputs'!$H$34)^C52)) | L52: =IF(LEFT(D52,4)*1>LEFT('General inputs'!$I$18,4)*1,"",SUMIF('Post-1996 commissioned assets'!$F$22:$F$218,$D52,'Post-1996 commissioned assets'!$P$22:$P$218)) -> 0 | M52: =IF(L52="","",L52/(1+'General inputs'!$H$32)^C52) -> 0 | N52: =IF(LEFT(D52,4)*1<LEFT('General inputs'!$I$18,4)*1+1,"",SUMIF('Uncommissioned assets'!$F$22:$F$1501,$D52,'Uncommissioned assets'!$P$22:$P$1501)) | O52: =IF(N52="","",N52/(1+'General inputs'!$H$32)^C52) | R52: =IF(OR(LEFT(D52,4)*1<LEFT('General inputs'!$I$16,4)*1,LEFT(D52,4)*1>LEFT('General inputs'!$I$16,4)+'General inputs'!$H$38-1),"",Q52/(1+'General inputs'!$H$34)^C52) | U52: =IF(OR(LEFT(D52,4)*1<LEFT('General inputs'!$I$16,4)*1,LEFT(D52,4)*1>LEFT('General inputs'!$I$16,4)+'General inputs'!$H$38-1),"",T52/(1+'General inputs'!$H$34)^C52)
C53: =IF(D53='General inputs'!$I$16,0,IF(D53<'General inputs'!$I$16,C54-1,C52+1)) -> -17 | D53: =LEFT(D52,4)+1&"-"&RIGHT(D52,2)+1 -> 2009-10 | E53: =IF(LEFT(D53,4)*1>LEFT('General inputs'!$I$16,4)+'General inputs'!$H$38-1,"",'ET inputs'!D26) -> 0 | F53: =IF(LEFT(D53,4)*1>LEFT('General inputs'!$I$16,4)+'General inputs'!$H$38-1,"",E53/(1+'General inputs'!$H$30)^C53) -> 0 | G53: =IF(LEFT(D53,4)*1>LEFT('General inputs'!$I$16,4)+'General inputs'!$H$38-1,"",E53/(1+'General inputs'!$H$32)^C53) -> 0 | H53: =IF(LEFT(D53,4)*1<LEFT('General inputs'!$I$16,4)*1,"",IF(LEFT(D53,4)*1>LEFT('General inputs'!$I$16,4)+'General inputs'!$H$38-1,"",E53/(1+'General inputs'!$H$34)^C53)) | L53: =IF(LEFT(D53,4)*1>LEFT('General inputs'!$I$18,4)*1,"",SUMIF('Post-1996 commissioned assets'!$F$22:$F$218,$D53,'Post-1996 commissioned assets'!$P$22:$P$218)) -> 0 | M53: =IF(L53="","",L53/(1+'General inputs'!$H$32)^C53) -> 0 | N53: =IF(LEFT(D53,4)*1<LEFT('General inputs'!$I$18,4)*1+1,"",SUMIF('Uncommissioned assets'!$F$22:$F$1501,$D53,'Uncommissioned assets'!$P$22:$P$1501)) | O53: =IF(N53="","",N53/(1+'General inputs'!$H$32)^C53) | R53: =IF(OR(LEFT(D53,4)*1<LEFT('General inputs'!$I$16,4)*1,LEFT(D53,4)*1>LEFT('General inputs'!$I$16,4)+'General inputs'!$H$38-1),"",Q53/(1+'General inputs'!$H$34)^C53) | U53: =IF(OR(LEFT(D53,4)*1<LEFT('General inputs'!$I$16,4)*1,LEFT(D53,4)*1>LEFT('General inputs'!$I$16,4)+'General inputs'!$H$38-1),"",T53/(1+'General inputs'!$H$34)^C53)
C54: =IF(D54='General inputs'!$I$16,0,IF(D54<'General inputs'!$I$16,C55-1,C53+1)) -> -16 | D54: =LEFT(D53,4)+1&"-"&RIGHT(D53,2)+1 -> 2010-11 | E54: =IF(LEFT(D54,4)*1>LEFT('General inputs'!$I$16,4)+'General inputs'!$H$38-1,"",'ET inputs'!D27) -> 0 | F54: =IF(LEFT(D54,4)*1>LEFT('General inputs'!$I$16,4)+'General inputs'!$H$38-1,"",E54/(1+'General inputs'!$H$30)^C54) -> 0 | G54: =IF(LEFT(D54,4)*1>LEFT('General inputs'!$I$16,4)+'General inputs'!$H$38-1,"",E54/(1+'General inputs'!$H$32)^C54) -> 0 | H54: =IF(LEFT(D54,4)*1<LEFT('General inputs'!$I$16,4)*1,"",IF(LEFT(D54,4)*1>LEFT('General inputs'!$I$16,4)+'General inputs'!$H$38-1,"",E54/(1+'General inputs'!$H$34)^C54)) | L54: =IF(LEFT(D54,4)*1>LEFT('General inputs'!$I$18,4)*1,"",SUMIF('Post-1996 commissioned assets'!$F$22:$F$218,$D54,'Post-1996 commissioned assets'!$P$22:$P$218)) -> 0 | M54: =IF(L54="","",L54/(1+'General inputs'!$H$32)^C54) -> 0 | N54: =IF(LEFT(D54,4)*1<LEFT('General inputs'!$I$18,4)*1+1,"",SUMIF('Uncommissioned assets'!$F$22:$F$1501,$D54,'Uncommissioned assets'!$P$22:$P$1501)) | O54: =IF(N54="","",N54/(1+'General inputs'!$H$32)^C54) | R54: =IF(OR(LEFT(D54,4)*1<LEFT('General inputs'!$I$16,4)*1,LEFT(D54,4)*1>LEFT('General inputs'!$I$16,4)+'General inputs'!$H$38-1),"",Q54/(1+'General inputs'!$H$34)^C54) | U54: =IF(OR(LEFT(D54,4)*1<LEFT('General inputs'!$I$16,4)*1,LEFT(D54,4)*1>LEFT('General inputs'!$I$16,4)+'General inputs'!$H$38-1),"",T54/(1+'General inputs'!$H$34)^C54)
C55: =IF(D55='General inputs'!$I$16,0,IF(D55<'General inputs'!$I$16,C56-1,C54+1)) -> -15 | D55: =LEFT(D54,4)+1&"-"&RIGHT(D54,2)+1 -> 2011-12 | E55: =IF(LEFT(D55,4)*1>LEFT('General inputs'!$I$16,4)+'General inputs'!$H$38-1,"",'ET inputs'!D28) -> 0 | F55: =IF(LEFT(D55,4)*1>LEFT('General inputs'!$I$16,4)+'General inputs'!$H$38-1,"",E55/(1+'General inputs'!$H$30)^C55) -> 0 | G55: =IF(LEFT(D55,4)*1>LEFT('General inputs'!$I$16,4)+'General inputs'!$H$38-1,"",E55/(1+'General inputs'!$H$32)^C55) -> 0 | H55: =IF(LEFT(D55,4)*1<LEFT('General inputs'!$I$16,4)*1,"",IF(LEFT(D55,4)*1>LEFT('General inputs'!$I$16,4)+'General inputs'!$H$38-1,"",E55/(1+'General inputs'!$H$34)^C55)) | L55: =IF(LEFT(D55,4)*1>LEFT('General inputs'!$I$18,4)*1,"",SUMIF('Post-1996 commissioned assets'!$F$22:$F$218,$D55,'Post-1996 commissioned assets'!$P$22:$P$218)) -> 0 | M55: =IF(L55="","",L55/(1+'General inputs'!$H$32)^C55) -> 0 | N55: =IF(LEFT(D55,4)*1<LEFT('General inputs'!$I$18,4)*1+1,"",SUMIF('Uncommissioned assets'!$F$22:$F$1501,$D55,'Uncommissioned assets'!$P$22:$P$1501)) | O55: =IF(N55="","",N55/(1+'General inputs'!$H$32)^C55) | R55: =IF(OR(LEFT(D55,4)*1<LEFT('General inputs'!$I$16,4)*1,LEFT(D55,4)*1>LEFT('General inputs'!$I$16,4)+'General inputs'!$H$38-1),"",Q55/(1+'General inputs'!$H$34)^C55) | U55: =IF(OR(LEFT(D55,4)*1<LEFT('General inputs'!$I$16,4)*1,LEFT(D55,4)*1>LEFT('General inputs'!$I$16,4)+'General inputs'!$H$38-1),"",T55/(1+'General inputs'!$H$34)^C55)
C56: =IF(D56='General inputs'!$I$16,0,IF(D56<'General inputs'!$I$16,C57-1,C55+1)) -> -14 | D56: =LEFT(D55,4)+1&"-"&RIGHT(D55,2)+1 -> 2012-13 | E56: =IF(LEFT(D56,4)*1>LEFT('General inputs'!$I$16,4)+'General inputs'!$H$38-1,"",'ET inputs'!D29) -> 0 | F56: =IF(LEFT(D56,4)*1>LEFT('General inputs'!$I$16,4)+'General inputs'!$H$38-1,"",E56/(1+'General inputs'!$H$30)^C56) -> 0 | G56: =IF(LEFT(D56,4)*1>LEFT('General inputs'!$I$16,4)+'General inputs'!$H$38-1,"",E56/(1+'General inputs'!$H$32)^C56) -> 0 | H56: =IF(LEFT(D56,4)*1<LEFT('General inputs'!$I$16,4)*1,"",IF(LEFT(D56,4)*1>LEFT('General inputs'!$I$16,4)+'General inputs'!$H$38-1,"",E56/(1+'General inputs'!$H$34)^C56)) | L56: =IF(LEFT(D56,4)*1>LEFT('General inputs'!$I$18,4)*1,"",SUMIF('Post-1996 commissioned assets'!$F$22:$F$218,$D56,'Post-1996 commissioned assets'!$P$22:$P$218)) -> 0 | M56: =IF(L56="","",L56/(1+'General inputs'!$H$32)^C56) -> 0 | N56: =IF(LEFT(D56,4)*1<LEFT('General inputs'!$I$18,4)*1+1,"",SUMIF('Uncommissioned assets'!$F$22:$F$1501,$D56,'Uncommissioned assets'!$P$22:$P$1501)) | O56: =IF(N56="","",N56/(1+'General inputs'!$H$32)^C56) | R56: =IF(OR(LEFT(D56,4)*1<LEFT('General inputs'!$I$16,4)*1,LEFT(D56,4)*1>LEFT('General inputs'!$I$16,4)+'General inputs'!$H$38-1),"",Q56/(1+'General inputs'!$H$34)^C56) | U56: =IF(OR(LEFT(D56,4)*1<LEFT('General inputs'!$I$16,4)*1,LEFT(D56,4)*1>LEFT('General inputs'!$I$16,4)+'General inputs'!$H$38-1),"",T56/(1+'General inputs'!$H$34)^C56)
C57: =IF(D57='General inputs'!$I$16,0,IF(D57<'General inputs'!$I$16,C58-1,C56+1)) -> -13 | D57: =LEFT(D56,4)+1&"-"&RIGHT(D56,2)+1 -> 2013-14 | E57: =IF(LEFT(D57,4)*1>LEFT('General inputs'!$I$16,4)+'General inputs'!$H$38-1,"",'ET inputs'!D30) -> 0 | F57: =IF(LEFT(D57,4)*1>LEFT('General inputs'!$I$16,4)+'General inputs'!$H$38-1,"",E57/(1+'General inputs'!$H$30)^C57) -> 0 | G57: =IF(LEFT(D57,4)*1>LEFT('General inputs'!$I$16,4)+'General inputs'!$H$38-1,"",E57/(1+'General inputs'!$H$32)^C57) -> 0 | H57: =IF(LEFT(D57,4)*1<LEFT('General inputs'!$I$16,4)*1,"",IF(LEFT(D57,4)*1>LEFT('General inputs'!$I$16,4)+'General inputs'!$H$38-1,"",E57/(1+'General inputs'!$H$34)^C57)) | L57: =IF(LEFT(D57,4)*1>LEFT('General inputs'!$I$18,4)*1,"",SUMIF('Post-1996 commissioned assets'!$F$22:$F$218,$D57,'Post-1996 commissioned assets'!$P$22:$P$218)) -> 0 | M57: =IF(L57="","",L57/(1+'General inputs'!$H$32)^C57) -> 0 | N57: =IF(LEFT(D57,4)*1<LEFT('General inputs'!$I$18,4)*1+1,"",SUMIF('Uncommissioned assets'!$F$22:$F$1501,$D57,'Uncommissioned assets'!$P$22:$P$1501)) | O57: =IF(N57="","",N57/(1+'General inputs'!$H$32)^C57) | R57: =IF(OR(LEFT(D57,4)*1<LEFT('General inputs'!$I$16,4)*1,LEFT(D57,4)*1>LEFT('General inputs'!$I$16,4)+'General inputs'!$H$38-1),"",Q57/(1+'General inputs'!$H$34)^C57) | U57: =IF(OR(LEFT(D57,4)*1<LEFT('General inputs'!$I$16,4)*1,LEFT(D57,4)*1>LEFT('General inputs'!$I$16,4)+'General inputs'!$H$38-1),"",T57/(1+'General inputs'!$H$34)^C57)
...

Sheet General inputs
C3: GENERAL INPUTS
C5: Regulated Agency (for setting pre-1996 discount rate) | H5: Sydney Water Corporation | L5: ="Do not delete - data validation for option at "&ADDRESS(ROW(H5),COLUMN(H5)) -> Do not delete - data validation for option at $H$5
L6: Agency name | M6: Pre-1996 discount rate
C7: DSP name | H7: Aerotropolis | L7: Central Coast Council | M7: 0
L8: Hunter Water Corporation | M8: 0.03
C9: System name (allows cross checking of headworks costs) | H9: =H7 -> Aerotropolis | L9: Sydney Water Corporation | M9: 0.03
C11: Service this DSP relates to | H11: Stormwater
L12: ="Do not delete - data validation for options at "&ADDRESS(ROW(H11),COLUMN(H11)) -> Do not delete - data validation for options at $H$11
L13: Water
C14: Timeframes | I14: Relevant financial year | L14: Sewerage
L15: Stormwater
D16: Financial year of registration for the DSP | I16: 2026-27
D18: Final date where assets can be commissioned | H18: 46203 | I18: =IF(MONTH(H18)>=7,YEAR(H18)&"-"&RIGHT(YEAR(H18),2)+1,RIGHT(YEAR(H18),4)-1&"-"&RIGHT(YEAR(H18),2)) -> 2025-26 | L18: ="Do not delete - data validation for options at "&ADDRESS(ROW(I16),COLUMN(I16))&" and "&ADDRESS(ROW(I40),COLUMN(I40)) -> Do not delete - data validation for options at $I$16 and $I$40
L19: 2018-19
L20: 2019-20
D21: Date range for pre 1996 assets | L21: 2020-21
L22: 2021-22
D23: First day | H23: 25569 | L23: 2022-23
D24: Last day | H24: 35064 | L24: 2023-24
L25: 2024-25
L26: 2025-26
L27: 2026-27
C28: Discount rates & other | L28: 2027-28
L29: 2028-29
D30: Rate applied to pre-1996 assets and ETs | H30: =INDEX($M$7:$M$12,MATCH($H$5,$L$7:$L$12)) -> 0.03 | L30: 2029-30
L31: 2030-31
D32: Rate applied to post-1996 assets and ETs (real pre-tax WACC) | H32: 0.041
D34: Rate applied to the NPV of expected revenues and costs (real pre-tax WACC) | H34: 0.041
D36: An Equivalent Tenement (ET) is a unit that occupies X hectares of net developable area, where X = | H36: 0.10495897 | L36: ="Do not delete - data validation for option at "&ADDRESS(ROW(H42),COLUMN(H42)) -> Do not delete - data validation for option at $H$42
L37: $
D38: Forecast period (years) | H38: 30 | L38: $'000
L39: $M
D40: $ base year for DSP analysis | I40: 2026-27
D42: What $ units are used in the model | H42: $

Sheet Pre-1996 assets
C3: PRE-1996 ASSETS WITH A NEXUS TO THE SERVICE FOR WHICH THE MAXIMUM PRICE IS BEING CALCULATED
C6: ="Consideration must be given to the principles regarding asset exclusions presented on the '"&MID(CELL("filename",'Asset exclusions'!A1),FIND("]",CELL("filename",'Asset exclusions'!A1))+1,255)&"' worksheet before they are entered into the register." -> Consideration must be given to the principles regarding asset exclusions presented on the 'Asset exclusions' worksheet before they are entered into the register.
C7: ="Hyperlink to the '"&MID(CELL("filename",'Asset exclusions'!A1),FIND("]",CELL("filename",'Asset exclusions'!A1))+1,255)&"' worksheet:" -> Hyperlink to the 'Asset exclusions' worksheet: | E7: Asset exclusions'!A1
C9: Where this template is being used to calculate the maximum price for connecting to a Recycled Water System, refer to the following provisions of the Recycled Water Developer Charges Determination:
C10: (a) Schedule 1, clause 2 (where the Recycled Water System is a Least Cost Servicing Solution); and
C11: (b) Schedule 2, clause 2.2 (where the Recycled Water System is not a Least Cost Servicing Solution).
C12: These provisions may affect the calculation of the capital charge.
C14: Date range for assets
C15: Start date | E15: ='General inputs'!$H$23 -> 25569
C16: End date | E16: ='General inputs'!$H$24 -> 35064
C18: Register of pre-1996 assets
C20: General inputs | H20: Service potential inputs | L20: Asset value inputs
C21: Identifier | D21: Description | E21: Date commissioned | F21: Date check | H21: DSP areas serviced by asset | I21: Expected system-wide ETs to be serviced by this asset | J21: Proportion of asset cost to be recovered via this DSP | L21: Number of units or length of asset (A) | M21: Unit of measure in (A) | N21: ="MEERA value per unit/measure of length (B) ("&'General inputs'!$H$42&" as at 1 July "&LEFT('General inputs'!$I$40,4)&")" -> MEERA value per unit/measure of length (B) ($ as at 1 July 2026) | O21: ="Total MEERA value (A x B) ("&'General inputs'!$H$42&", $"&'General inputs'!$I$40&")" -> Total MEERA value (A x B) ($, $2026-27) | P21: ="MEERA value to be recovered via DSP ("&'General inputs'!$H$42&", $"&'General inputs'!$I$40&")" -> MEERA value to be recovered via DSP ($, $2026-27)
F22: =IF(E22="","-",IF(OR(E22<$E$15,E22>$E$16),"ERROR - date outside of range","Date check - OK")) -> - | J22: =IFERROR(MIN('MP Calculations'!$E$29/I22,1),"-") -> - | O22: =IF(N22="","-",L22*N22) -> - | P22: =IF(O22="-","-",IF(OR(E22<$E$15,E22>$E$16),0,O22*J22)) -> -
F23: =IF(E23="","-",IF(OR(E23<$E$15,E23>$E$16),"ERROR - date outside of range","Date check - OK")) -> - | J23: =IFERROR(MIN('MP Calculations'!$E$29/I23,1),"-") -> - | O23: =IF(N23="","-",L23*N23) -> - | P23: =IF(O23="-","-",IF(OR(E23<$E$15,E23>$E$16),0,O23*J23)) -> -
F24: =IF(E24="","-",IF(OR(E24<$E$15,E24>$E$16),"ERROR - date outside of range","Date check - OK")) -> - | J24: =IFERROR(MIN('MP Calculations'!$E$29/I24,1),"-") -> - | O24: =IF(N24="","-",L24*N24) -> - | P24: =IF(O24="-","-",IF(OR(E24<$E$15,E24>$E$16),0,O24*J24)) -> -
F25: =IF(E25="","-",IF(OR(E25<$E$15,E25>$E$16),"ERROR - date outside of range","Date check - OK")) -> - | J25: =IFERROR(MIN('MP Calculations'!$E$29/I25,1),"-") -> - | O25: =IF(N25="","-",L25*N25) -> - | P25: =IF(O25="-","-",IF(OR(E25<$E$15,E25>$E$16),0,O25*J25)) -> -
F26: =IF(E26="","-",IF(OR(E26<$E$15,E26>$E$16),"ERROR - date outside of range","Date check - OK")) -> - | J26: =IFERROR(MIN('MP Calculations'!$E$29/I26,1),"-") -> - | O26: =IF(N26="","-",L26*N26) -> - | P26: =IF(O26="-","-",IF(OR(E26<$E$15,E26>$E$16),0,O26*J26)) -> -
F27: =IF(E27="","-",IF(OR(E27<$E$15,E27>$E$16),"ERROR - date outside of range","Date check - OK")) -> - | J27: =IFERROR(MIN('MP Calculations'!$E$29/I27,1),"-") -> - | O27: =IF(N27="","-",L27*N27) -> - | P27: =IF(O27="-","-",IF(OR(E27<$E$15,E27>$E$16),0,O27*J27)) -> -
F28: =IF(E28="","-",IF(OR(E28<$E$15,E28>$E$16),"ERROR - date outside of range","Date check - OK")) -> - | J28: =IFERROR(MIN('MP Calculations'!$E$29/I28,1),"-") -> - | O28: =IF(N28="","-",L28*N28) -> - | P28: =IF(O28="-","-",IF(OR(E28<$E$15,E28>$E$16),0,O28*J28)) -> -
F29: =IF(E29="","-",IF(OR(E29<$E$15,E29>$E$16),"ERROR - date outside of range","Date check - OK")) -> - | J29: =IFERROR(MIN('MP Calculations'!$E$29/I29,1),"-") -> - | O29: =IF(N29="","-",L29*N29) -> - | P29: =IF(O29="-","-",IF(OR(E29<$E$15,E29>$E$16),0,O29*J29)) -> -
F30: =IF(E30="","-",IF(OR(E30<$E$15,E30>$E$16),"ERROR - date outside of range","Date check - OK")) -> - | J30: =IFERROR(MIN('MP Calculations'!$E$29/I30,1),"-") -> - | O30: =IF(N30="","-",L30*N30) -> - | P30: =IF(O30="-","-",IF(OR(E30<$E$15,E30>$E$16),0,O30*J30)) -> -
F31: =IF(E31="","-",IF(OR(E31<$E$15,E31>$E$16),"ERROR - date outside of range","Date check - OK")) -> - | J31: =IFERROR(MIN('MP Calculations'!$E$29/I31,1),"-") -> - | O31: =IF(N31="","-",L31*N31) -> - | P31: =IF(O31="-","-",IF(OR(E31<$E$15,E31>$E$16),0,O31*J31)) -> -
F32: =IF(E32="","-",IF(OR(E32<$E$15,E32>$E$16),"ERROR - date outside of range","Date check - OK")) -> - | J32: =IFERROR(MIN('MP Calculations'!$E$29/I32,1),"-") -> - | O32: =IF(N32="","-",L32*N32) -> - | P32: =IF(O32="-","-",IF(OR(E32<$E$15,E32>$E$16),0,O32*J32)) -> -
F33: =IF(E33="","-",IF(OR(E33<$E$15,E33>$E$16),"ERROR - date outside of range","Date check - OK")) -> - | J33: =IFERROR(MIN('MP Calculations'!$E$29/I33,1),"-") -> - | O33: =IF(N33="","-",L33*N33) -> - | P33: =IF(O33="-","-",IF(OR(E33<$E$15,E33>$E$16),0,O33*J33)) -> -
... F217: =IF(E217="","-",IF(OR(E217<$E$15,E217>$E$16),"ERROR - date outside of range","Date check - OK")) -> - | J217: =IFERROR(MIN('MP Calculations'!$E$29/I217,1),"-") -> - | O217: =IF(N217="","-",L217*N217) -> - | P217: =IF(O217="-","-",IF(OR(E217<$E$15,E217>$E$16),0,O217*J217)) -> -
D218: ="Add rows above this point as required and copy formula down. It is important to add rows above this point as this will ensure the formula on the '"&MID(CELL("filename",'MP Calculations'!$A$1),FIND("]",CELL("filename",'MP Calculations'!$A$1))+1,255)&"' worksheet will incorporate the information included in the additional rows. " -> Add rows above this point as required and copy formula down. It is important to add rows above this point as this will ensure the formula on the 'MP Calculations' worksheet will incorporate the information included in the additional rows. | F218: =IF(E218="","-",IF(OR(E218<$E$15,E218>$E$16),"ERROR - date outside of range","Date check - OK")) -> - | J218: =IFERROR(MIN('MP Calculations'!$E$29/I218,1),"-") -> - | O218: =IF(N218="","-",L218*N218) -> - | P218: =IF(O218="-","-",IF(OR(E218<$E$15,E218>$E$16),0,O218*J218)) -> -
O219: Total | P219: =SUM(P22:P218) -> 0

Sheet Post-1996 commissioned assets
C3: POST-1996 COMMISSIONED ASSETS WITH A NEXUS TO THE SERVICE FOR WHICH THE MAXIMUM PRICE IS BEING CALCULATED
C6: ="Consideration must be given to the principles regarding asset exclusions presented on the '"&MID(CELL("filename",'Asset exclusions'!A1),FIND("]",CELL("filename",'Asset exclusions'!A1))+1,255)&"' worksheet before they are entered into the register." -> Consideration must be given to the principles regarding asset exclusions presented on the 'Asset exclusions' worksheet before they are entered into the register.
C7: ="Hyperlink to the '"&MID(CELL("filename",'Asset exclusions'!A1),FIND("]",CELL("filename",'Asset exclusions'!A1))+1,255)&"' worksheet:" -> Hyperlink to the 'Asset exclusions' worksheet: | E7: Asset exclusions'!A1
C9: Where this template is being used to calculate the maximum price for connecting to a Recycled Water System, refer to the following provisions of the Recycled Water Developer Charges Determination:
C10: (a) Schedule 1, clause 2 (where the Recycled Water System is a Least Cost Servicing Solution); and
C11: (b) Schedule 2, clause 2.2 (where the Recycled Water System is not a Least Cost Servicing Solution).
C12: These provisions may affect the calculation of the capital charge.
C14: Date range for assets
C15: Start date | E15: ='General inputs'!$H$24+1 -> 35065
C16: End date | E16: ='General inputs'!$H$18 -> 46203
C18: Register of post-1996 commissioned assets
C20: General inputs | H20: Service potential inputs | L20: Asset value inputs
C21: Identifier | D21: Description | E21: Date commissioned | F21: Financial year of commissioning | H21: DSP areas serviced by asset | I21: Expected system-wide ETs to be serviced by this asset | J21: Proportion of asset cost to be recovered via this DSP | L21: Number of units or length of asset (A) | M21: Unit of measure in (A) | N21: ="MEERA value per unit/measure of length (B) ("&'General inputs'!$H$42&" as at 1 July "&LEFT('General inputs'!$I$40,4)&")" -> MEERA value per unit/measure of length (B) ($ as at 1 July 2026) | O21: ="Total MEERA value (A x B) ("&'General inputs'!$H$42&", $"&'General inputs'!$I$40&")" -> Total MEERA value (A x B) ($, $2026-27) | P21: ="MEERA value to be recovered via DSP ("&'General inputs'!$H$42&", $"&'General inputs'!$I$40&")" -> MEERA value to be recovered via DSP ($, $2026-27)
F22: =IF(E22="","-",IF(OR(E22<$E$15,E22>$E$16),"ERROR - date outside of range",IF(MONTH(E22)>=7,YEAR(E22)&"-"&IF(YEAR(E22)=1999,"00",IF(AND(YEAR(E22)>=2000,YEAR(E22)<2009),"0","")&RIGHT(YEAR(E22),2)+1),RIGHT(YEAR(E22),4)-1&"-"&RIGHT(YEAR(E22),2)))) -> - | J22: =IFERROR(MIN('MP Calculations'!$E$29/I22,1),"-") -> - | P22: =IF(O22="-","-",IF(OR(E22<$E$15,E22>$E$16),0,O22*J22)) -> 0
F23: =IF(E23="","-",IF(OR(E23<$E$15,E23>$E$16),"ERROR - date outside of range",IF(MONTH(E23)>=7,YEAR(E23)&"-"&IF(YEAR(E23)=1999,"00",IF(AND(YEAR(E23)>=2000,YEAR(E23)<2009),"0","")&RIGHT(YEAR(E23),2)+1),RIGHT(YEAR(E23),4)-1&"-"&RIGHT(YEAR(E23),2)))) -> - | J23: =IFERROR(MIN('MP Calculations'!$E$29/I23,1),"-") -> - | P23: =IF(O23="-","-",IF(OR(E23<$E$15,E23>$E$16),0,O23*J23)) -> 0
F24: =IF(E24="","-",IF(OR(E24<$E$15,E24>$E$16),"ERROR - date outside of range",IF(MONTH(E24)>=7,YEAR(E24)&"-"&IF(YEAR(E24)=1999,"00",IF(AND(YEAR(E24)>=2000,YEAR(E24)<2009),"0","")&RIGHT(YEAR(E24),2)+1),RIGHT(YEAR(E24),4)-1&"-"&RIGHT(YEAR(E24),2)))) -> - | J24: =IFERROR(MIN('MP Calculations'!$E$29/I24,1),"-") -> - | P24: =IF(O24="-","-",IF(OR(E24<$E$15,E24>$E$16),0,O24*J24)) -> 0
F25: =IF(E25="","-",IF(OR(E25<$E$15,E25>$E$16),"ERROR - date outside of range",IF(MONTH(E25)>=7,YEAR(E25)&"-"&IF(YEAR(E25)=1999,"00",IF(AND(YEAR(E25)>=2000,YEAR(E25)<2009),"0","")&RIGHT(YEAR(E25),2)+1),RIGHT(YEAR(E25),4)-1&"-"&RIGHT(YEAR(E25),2)))) -> - | J25: =IFERROR(MIN('MP Calculations'!$E$29/I25,1),"-") -> - | O25: =IF(N25="","-",L25*N25) -> - | P25: =IF(O25="-","-",IF(OR(E25<$E$15,E25>$E$16),0,O25*J25)) -> -
F26: =IF(E26="","-",IF(OR(E26<$E$15,E26>$E$16),"ERROR - date outside of range",IF(MONTH(E26)>=7,YEAR(E26)&"-"&IF(YEAR(E26)=1999,"00",IF(AND(YEAR(E26)>=2000,YEAR(E26)<2009),"0","")&RIGHT(YEAR(E26),2)+1),RIGHT(YEAR(E26),4)-1&"-"&RIGHT(YEAR(E26),2)))) -> - | J26: =IFERROR(MIN('MP Calculations'!$E$29/I26,1),"-") -> - | O26: =IF(N26="","-",L26*N26) -> - | P26: =IF(O26="-","-",IF(OR(E26<$E$15,E26>$E$16),0,O26*J26)) -> -
F27: =IF(E27="","-",IF(OR(E27<$E$15,E27>$E$16),"ERROR - date outside of range",IF(MONTH(E27)>=7,YEAR(E27)&"-"&IF(YEAR(E27)=1999,"00",IF(AND(YEAR(E27)>=2000,YEAR(E27)<2009),"0","")&RIGHT(YEAR(E27),2)+1),RIGHT(YEAR(E27),4)-1&"-"&RIGHT(YEAR(E27),2)))) -> - | J27: =IFERROR(MIN('MP Calculations'!$E$29/I27,1),"-") -> - | O27: =IF(N27="","-",L27*N27) -> - | P27: =IF(O27="-","-",IF(OR(E27<$E$15,E27>$E$16),0,O27*J27)) -> -
